BEGIN:VCALENDAR
VERSION:2.0
PRODID:-//Katrin Stelter - ECPv6.8.2//NONSGML v1.0//EN
CALSCALE:GREGORIAN
METHOD:PUBLISH
X-ORIGINAL-URL:https://katrinstelter.de
X-WR-CALDESC:Veranstaltungen für Katrin Stelter
REFRESH-INTERVAL;VALUE=DURATION:PT1H
X-Robots-Tag:noindex
X-PUBLISHED-TTL:PT1H
BEGIN:VTIMEZONE
TZID:UTC
BEGIN:STANDARD
TZOFFSETFROM:+0000
TZOFFSETTO:+0000
TZNAME:UTC
DTSTART:20250101T000000
END:STANDARD
END:VTIMEZONE
BEGIN:VEVENT
DTSTART;VALUE=DATE:20250815
DTEND;VALUE=DATE:20250821
DTSTAMP:20260421T224302
CREATED:20131016T055331Z
LAST-MODIFIED:20250716T201116Z
UID:935-1755216000-1755734399@katrinstelter.de
SUMMARY:Kreativ-Seminarwoche im Tessin in Ces 15.-20. August 2025
DESCRIPTION:einfach leben\ndem Himmel ganz nah\nFrei-Raum genießen und gestalten \nCes: einzigartige Hochebene\, Spielwiesen nur mit Milchstraße (autofrei!)\, Bewegungsraum im neuen Casa Cultura\, Holzfeuer\, Sauna\, Wasserfall\, wilde zauberhafte Plätze entdecken\, Ruhe\, Kraft und Inspiration tanken\, gewohnte Perspektiven auf den Kopf stellen.\n... und alle Dinge werden zu Dir kommen… \nMit der Methode Tamalpa Life/Art Process® nach Anna und Daria Halprin entstehen neue Handlungsmöglichkeiten und können zur „Lebenskunst“ werden\, indem sie den Alltag bereichern: Im Spiel mit Bewegung/Tanz\, Farben\, Worten\, Musik\, Rhythmus…. \nDas Casa Cultura bietet einen einzigartigen Raum\, der zum Loslassen einlädt\, zum Ankommen bei sich mit Körperarbeit und Bewegung sowie zu Begegnung und Austausch mit anderen.\nKreativ gestaltend werden wir uns von der Natur erzählen lassen\, was bedeutsam ist – dieses Jahr in ganz besonderer Weise im: \n*Maskenspiel in Naturkulisse*\nWir erforschen die verwunschenen Naturplätze rund um Ces und lassen uns inspirieren. Mit Charaktermasken kreieren wir szenographische Bilder in der Naturkulisse und spielen mit den versteckten Wesen in Wald\, Wiesen und Bergbächen. Das Bauen Deiner eigenen Charaktermaske lässt Dich in neue Bewegungen und Stimmungen schlüpfen und erweitert Dein Repertoire an Ausdruck und Darstellung Deiner inneren Bilder. \nKurssprache deutsch\, engl. Übersetzung möglich. \nFlyer zum download hier\nFotos von Kreativ-Seminarwochen hier \,\nEin Traum wird wahr: Tamalpa in Ces hier/ Fotogalerie Bergdorf Ces hier \nZusatzangebot: Es besteht die Möglichkeit\, den Anschlusskurs zu gewaltfreier Kommunikation zu buchen mit 10% Rabatt:\nsiehe mehr Infos hier: Peace starts with you vom 20.-24.08.2025 in Ces \nTagesablauf der Kreativ-Seminarwoche:\nDer Tag kann beginnen mit Duschen am Wasserfall und Qigong.\nFrühstück 9:00\, Vormittagseinheit ca. 3 Stunden im Casa Cultura oder draußen\nMittagessen ca. 13:15\nNachmittags „Werkstattzeit“ in der Gruppe oder individuell mit kreativen Frei-Räumen\nAbendessen ca. 18:30\nAbends: Austausch in der Gruppe\, Musik\, Tanz\, am Feuer\, Sauna …. \nSie können mitnehmen\n– einen bewussteren Umgang mit Ihrem Körper\n– Entspannung und Lebensfreude\n– Abstand zum Alltag und einen freien Kopf für neue Ideen\n– die Erfahrung\, sich selbst zu überraschen und beschenkt zu werden\n– Methoden\, wie Sie Ihr Leben durch Kunst und Kreativität bereichern können\n– das Erlebnis\, von einer Gruppe unterstützt zu werden \nDer Kurs kann als Einführungsseminar für die Tamalpa Life/Art Process® – Ausbildung genutzt werden (Infos hier) \nTeilnehmende: max. 14 Personen\nAlle sind herzlich willkommen mit dem\, was sie mitbringen an Ideen\, Gefühlen\, körperlichen Möglichkeiten. Es sind keine besonderen Vorkenntnisse erforderlich.\n\n„Als Kind ist jeder ein Künstler. Die Schwierigkeit liegt darin\, als Erwachsener einer zu bleiben“ Pablo Picasso \nKursleitung Katrin Stelter und Regula A. Friedli:\nKatrin Stelter: Tamalpa Practitioner und Co-Leitung von Tamalpa Germany\, New Dance bei bewegungs-art e.V.\, Lehr-/Logopädin\, mehr\nRegula A. Friedli: Tamalpa Graduate\, und Theaterpädagogin\, mehr \nAnreise Bitte am besten mit ÖPNV ( Zeiten unter Vorbehalt\, bitte überprüfen)\n(Anreise am gleichen Tag ab allen Stationen südlich von D-Frankfurt/ Main möglich)\nMit Zug: ab Basel SBB 10:03 Uhr (ab Zürich 11:05 )\, Ankunft Lavorgo 13:27 \, ab 13:37 mit dem Postauto nach Chironico-Paese\, Ankunft 13:47 Uhr\nFür Reisende aus Deutschland kann es sich lohnen bis Bellinzona zu buchen und Lavorgo als Zwischenhalt einzugeben\, wenn es noch günstige Europa-spezial Tickets gibt. Probiert beides aus: Zielort/ Abfahrtsort Lavorgo oder Bellinzona und schaut was günstiger ist.\nBitte dann daran denken\, auf jeden Fall in Lavorgo auszusteigen! \nBei Anreise mit dem Auto bitte den Parkplatz am Fluss in Chironico nutzen.\nTreffpunkt Bushaltestelle Chironico-Paese um 13.47 Uhr \,\nvon hier aus ist für den Gepäcktransport gesorgt. \nKursbeginn: 15.08 um 14:00 Uhr mit dem gemeinsamen Aufstieg in das Bergdorf Ces\n(2 Stunden Gehzeit mit kreativem Zwischenstop\, es ist auch möglich einen Weg von 90 min mit weniger Höhenmetern zu nehmen).\n\nKursende in Ces: 20. August nach der täglichen QI Gong Einheit\, Frühstück\, Packen und Aufräumen- Der Bus um 11:56 kann erreicht werden und der Zug ab Lavorgo um 12:32 Uhr oder später: Postauto 17:10 ab Chironico-Paese\, Ankunft Zürich 19:55\, Basel SBB 20:56 \nVerlängerungstag ist möglich: der Lastenaufzug fährt allerdings nur am 20. August runter\, Personen\, die den Verlängerungstag nutzen\, können einen Großteil des Gepäcks in einem Lager im Dorf nahe der Bushaltestelle deponieren. Der Tagessrucksack sollte groß genug sein\, um das restliche Gepäck runtertragen zu können. \nKurskosten: 570\,- CHF\, Ermäßigung auf Anfrage (540 – 450\,- CHF)\,\nErmäßigung auch möglich bei regulärem Verdienst im Euro-Raum\,  vielleicht gibt es auch die Möglichkeit eines Arbeitsstipendiums oder Talente-Tausches\, gerne einfach anfragen.\n10% Rabatt bei Buchung zusammen mit dem GfK-Kommunikationskurs 20.-24.08.25 \nVP/Ü/Gepäcktransport: 435 CHF (Gruppenhaus /Zelt\, eigenes Haus auf Nachfrage)\n1 Verlängerungstag ist möglich: 70\,- CHF Ü/V \nAnmeldung: hier\, Regula Friedli\, www.theatralis.ch\, Tel. +41 79 241 91 17\,\nPackliste wird ca. 4 Wochen vor Kursbeginn verschickt.\nFür organisatorische Fragen: kontakt@katrinstelter.de\, Tel. 0049 761 7074501 \nInfos und Inspirationen über den Newsletter erhalten:\nhier klicken und anmelden
URL:https://katrinstelter.de/event/kreativ-seminarwoche-2018/
LOCATION:Ces Tessin Schweiz\, Ces Tessin\, Schweiz\, Deutschland
END:VEVENT
END:VCALENDAR