BEGIN:VCALENDAR
VERSION:2.0
PRODID:-//Katrin Stelter - ECPv6.8.2//NONSGML v1.0//EN
CALSCALE:GREGORIAN
METHOD:PUBLISH
X-WR-CALNAME:Katrin Stelter
X-ORIGINAL-URL:https://katrinstelter.de
X-WR-CALDESC:Veranstaltungen für Katrin Stelter
REFRESH-INTERVAL;VALUE=DURATION:PT1H
X-Robots-Tag:noindex
X-PUBLISHED-TTL:PT1H
BEGIN:VTIMEZONE
TZID:Europe/Berlin
BEGIN:DAYLIGHT
TZOFFSETFROM:+0100
TZOFFSETTO:+0200
TZNAME:CEST
DTSTART:20260329T010000
END:DAYLIGHT
BEGIN:STANDARD
TZOFFSETFROM:+0200
TZOFFSETTO:+0100
TZNAME:CET
DTSTART:20261025T010000
END:STANDARD
TZID:UTC
BEGIN:STANDARD
TZOFFSETFROM:+0000
TZOFFSETTO:+0000
TZNAME:UTC
DTSTART:20260101T000000
END:STANDARD
END:VTIMEZONE
BEGIN:VEVENT
DTSTART;VALUE=DATE:20260418
DTEND;VALUE=DATE:20260420
DTSTAMP:20260419T155404
CREATED:20191121T172418Z
LAST-MODIFIED:20251216T115814Z
UID:2006-1776470400-1776643199@katrinstelter.de
SUMMARY:TAMALPA LIFE/ART PROCESS® und 5RHTYHMS® Connection - Verbindung
DESCRIPTION:Connection-Verbindung\nEin 5Rhythms® & Tamalpa Life/Art Process® Workshop\n \nWir alle sehnen uns nach Verbindung.\nZu uns selbst. Zu anderen.\num Leben\, das durch alles pulsiert. \nIn diesem Workshop tauchen wir in die Landschaft des Körpers ein – dorthin\, wo Bewegung zur Sprache wird und der Tanz die Tür zu etwas Größerem öffnet. \nDurch die fünf Rhythmen – Flowing\, Staccato\, Chaos\, Lyrical und Stillness – bewegen wir uns mit dem\, was in uns lebt. Wir lassen den Körper den Weg zeigen und entdecken\, wie Verbindung entsteht\, wenn wir den Mut haben\, ganz präsent zu sein. \nMit Elementen des Tamalpa Life/Art Process®\, in dem Bewegung\, Malen und Worte sich miteinander verbinden\, geben wir unserem inneren Erleben Form und Farbe – damit das Ungesagte gesehen\, gefühlt und verstanden werden kann. \nEs geht nicht darum\, Tanzschritte zu lernen\, sondern darum\, sich in den Tanz des Lebens hineinzugeben – mit allem\, was wir sind.\nDie Verbindung zu unserem eigenen Puls\, unserer Sehnsucht und Lebensenergie wiederzufinden.\nWenn der Körper ausdrücken darf\, was das Herz trägt\, kann etwas in uns zur Ruhe kommen.\nWir können uns wieder ganz fühlen. \nConnection ist eine Einladung\, über den Körper den Kontakt zu finden\, den du vielleicht vermisst hast:\n– zu mehr Freude\, Neugier und Lebendigkeit.\n– zu Frieden inmitten der Bewegung.\n– zu dem Abenteuer\, das das Leben selbst ist – und das uns durch den Körper ruft. \nKomm so\, wie du bist.\nDer Tanz beginnt genau dort\, wo du stehst.\nDie Praxis wird ergänzt mit einem Vortrag am Samstagabend mit Hintergrundwissen zu den international anerkannten Methoden Tamalpa Life/Art Process® und den 5Rhythms®. \nDer Kurs ist sowohl zum Kennenlernen (als Einführungsseminar für die Tamalpa Basisausbildung Level 1) als auch zur Vertiefung geeignet.\nVorkenntnisse nicht erforderlich \nUnterrichtssprache: deutsch\, engl. Übersetzung u.U. möglich\nHöchstteilnehmer*innenzahl: 18\nDatum: 18.-19. April\nKurszeit: SA: 10:30 – 18:15 Uhr (incl Vortrag 17:30 – 18:15)\, SO 10:00 – 16:00 Uhr\nDer Vortrag SA 17:15 – 18:15 kann auch separat gebucht werden\, Kosten 10€ erm. 5€\nKurskosten incl. Vortrag: Regulär 250€ -220€ (nach Selbsteinschätzung)\,\nErmäßigung auf Anfrage\nKursort: KIB auf dem Grether Gelände\, Adlerstr. 12\, 79098Freiburg\nWegbeschreibung hier\nÜbernachtung: Selbst organisiert\, Übernachtungsmöglichkeiten in Freiburg hier \nInfo und Anmeldung: kontakt@katrinstelter.de\nInfo/Anmeldung: kontakt@katrinstelter.de\, Katrin Stelter: Tel. +49 761 7074501  Anmeldungsformular\nKursleitung: Laila Wodtke Nissen\, Katrin Stelter (mehr Infos siehe unten) \nFacebooklink: https://fb.me/e/a2ejpHztG\nFlyer Download: hier\n\nLink zum 5Rhythmen Veranstaltungskalender in Freiburg hier \n\n\n\n\n\n\n\nInfos und Inspirationen über den Newsletter erhalten:\nhier klicken und anmelden \n \n\n\n\n\n\n\n\n\n\nLaila Wodtke Nissen:\nZertifizierte 5Rhythms Lehrerin von Gabrielle Roth (USA 2007- 08)\, Psychotherapeutin MDP\, Frauenzentrierte Coach & Facilitator von Dr. Claire Zammit PhD. und ausgebildete Physiotherapeutin. Sie unterrichtet die 5Rhythms seit 2008 und bringt eine gegenwärtige\, geerdete\, verkörperte und spielerische Energie in den Raum. Ihre Mission ist es\, eine gesunde und herzliche Verbindung zum verkörperten Selbst\, zu anderen / Gemeinschaft und zu unserem Planeten zu schaffen. Sie lebt in Arhus\, Dänemark.\nInfos: www.lailanissen.dk and https://www.5rhythms.com/teachers/Laila+Wodtke+Nissen \nKatrin Stelter\nCo-Leitung Tamalpa Germany\, Tamalpa Practitioner und seit 2011 Associated Teacher des Tamalpa Instituts USA\, 2006 -2020 im Vorstand von Tamalpa Deutschland e.V.\, 12 Jahre als erste Vorsitzende. Sie ist ausgebildet in Neuem Tanz (bewegungs-art e.V. Freiburg) und Logopädin. \nMenschen „aus dem Kopf“ und in den kreativen Fluss zu bringen\, ist ihr ein Herzensanliegen. Sie versteht Improvisation und Bewegung als kraftvolle Metapher für das Leben. Ideen der Tiefenökologie bezieht mit ein\, um das Gefühl der Verbindung mit dem Planeten Erde zu stärken. Sie leitete 22 Jahre den Planetary Dance von Anna Halprin in Freiburg.\nInfos zum Tamalpa Life/Art Process®: www.tamalpa -germany.de \nTranslation: \nConnection\nA 5Rhythms® & Tamalpa Life/Art Process® Workshop \nWe all yearn for connection.\nTo ourselves. To others.\nTo the life that pulsates through everything. \nIn this workshop\, we delve into the landscape of the body—to where movement becomes language and dance opens the door to something greater.\nThrough the 5RHYTHMS—Flowing\, Staccato\, Chaos\, Lyrical\, and Stillness—we move with what lives within us. We allow the body to show the way and discover how connection arises when we have the courage to be fully present. \nWith elements of the Tamalpa Life/Art Process®\, in which movement\, painting\, and words intertwine\, we give form and color to our inner experience—so that the unspoken can be seen\, felt\, and understood. It’s not about learning dance steps\, but about surrendering to the dance of life—with all that we are.\nRediscovering the connection to our own pulse\, our longing and our life energy. \nWhen the body is allowed to express what the heart carries\, something within us can find peace.\nWe can feel whole again.\nConnection is an invitation to find\, through the body\, the connection you may have been missing:\n– to more joy\, curiosity\, and vitality.\n– to peace amidst movement.\n– to the adventure that is life itself  and that calls to us through the body. \nCome as you are.\nThe dance begins exactly where you are. \nThe practice is complemented by a lecture on Saturday evening providing background information on the internationally recognized methods Tamalpa Life/Art Process® and the 5Rhythms®. \nThis course is suitable both as an introduction (as an introductory seminar for the Tamalpa Basic Training Level 1) and for deepening your practice. \nNo prior knowledge is required. \nLanguages ​​of instruction: German\, English. Translation possible\nMaximum number of participants: 18\nDates: April 18-19\nCourse times: Sat: 10:30 am – 6:15 pm (including lecture 5:30 pm – 6:15 pm)\,\nSun: 10:00 am – 4:00 pm\nThe lecture on Sat 5:15 pm – 6:15 pm can also be booked separately\, cost €10\, reduced €5 \nCourse fee including material and lecture: Regular €250-€220 (based on self-assessment)\,\nReduced rates available upon request\nLocation: KIB on the Grether grounds\, Adlerstr. 12\, 79098 Freiburg\, close to the main station\nDirections here \nÜbernachtung: Selbst organisiert\, Übernachtungsmöglichkeiten in Freiburg hier \nInfo and registration: kontakt@katrinstelter.de\, Katrin Stelter: Tel. +49 761 7074501  registrationformular\nCourse leaders: Laila Wodtke Nissen\, Katrin Stelter (mehr Infos siehe unten) \nFacebooklink: https://fb.me/e/a2ejpHztG\nFlyer Download: hier \n\n\n\n\n\n\n\n\n\n\n\n\n\n\n  \n 
URL:https://katrinstelter.de/event/18-04-26/
END:VEVENT
BEGIN:VEVENT
DTSTART;TZID=Europe/Berlin:20260510T100000
DTEND;TZID=Europe/Berlin:20260510T140000
DTSTAMP:20260419T155404
CREATED:20230828T135851Z
LAST-MODIFIED:20260413T082310Z
UID:3026-1778407200-1778421600@katrinstelter.de
SUMMARY:Körpergeschichten – Tamalpa-Kurs an der VHS-Freiburg am 10. Mai 2026
DESCRIPTION:An diesem Körpergeschichten Kurs werden wir lauschen\, was die Bein zu erzählen haben. Welchen Standpunkt nehmen sie ein\, wohin wollen sie Dich bewegen? \nIdee und Vorgehensweise im Kurs:\nEin bewusstes Verständnis für den Körper entwickeln\, in Bewegungsfluss kommen\, mit verschiedenen Qualitäten im Tanz spielen\, Farben zum Leuchten bringen im Malen\, Worte finden\, die sich (vielleicht) zu Sätzen fügen\, überraschen und beglücken. \nIm Erleben der eigenen Kreativität\, im Austausch mit anderen neue Handlungsmöglichkeiten entdecken und auftanken für den Alltag.\nDas praktische Erleben wird ergänzt durch eine theoretische Einführung in diese international anerkannte Methode. Zur Teilnahme am Kurs sind keine besonderen Vorkenntnisse erforderlich. \nKursszeit: 10.05.26 von 10:00-14:00 Uhr\nTeilnehmende: max. 12\nKurgebühr: 49\,- inkl. Material\nAnmeldung bei der VHS: anmeldung@vhs-freiburg.de\,\nKursnummer: 261308511\nbei organisatorischen Fragen: 0761 36895 10\nKursort: VHS-Gebäude\, Gelber Raum im Erdegeschoß\nWegbeschreibung: VHS im Colombi-Eck\, Friedrichstr. 52\,\nVom Hauptbahnhof:\nVom Hauptausgang links bis zur Kreuzung Friedrichstr.\, dann rechts bis Nr. 52.\nKartenlink hier \nInfos und Inspirationen über den Newsletter erhalten:\nhier klicken und anmelden \n 
URL:https://katrinstelter.de/event/koerpergeschichten-tamalpa-kurs-an-der-vhs-freiburg-am-25-februar/
END:VEVENT
BEGIN:VEVENT
DTSTART;VALUE=DATE:20260808
DTEND;VALUE=DATE:20260814
DTSTAMP:20260419T155404
CREATED:20230727T111054Z
LAST-MODIFIED:20251221T221947Z
UID:3012-1786147200-1786665599@katrinstelter.de
SUMMARY:Kreativ-Seminarwoche im Schwarzwald 8.-13. August 2026
DESCRIPTION:…und alle Dinge werden zu Dir kommen \n\nden unruhigen Geist belächeln den Tanz verkörpern die Mühelosigkeit entfalten schöpferischer nie endender Fluss \n\n\n\n Fotogalerie hierBewegungserfahrung und Tanz verbinden sich im Tamalpa Life/Art Process® nach Anna und Daria Halprin mit dem intuitiven Malen von inneren Bildern und kreativem Schreiben. Die Spurensuche beginnt: \n\n\n\nUnbekanntes willkommen heißen\, Bekanntes neu werden lassen\, gewohnte Perspektiven auf den Kopf stellen\, sich den Lebensrhythmen anvertrauen\, das „Inakzeptable“ annehmen … lernen\, aus dem inneren Kern gestalten. \nIm Tanz bringen wir diesen Zustand in Bewegungsfluss – solo\, zu zweit oder in der Gruppe. Im kreativen Ausdruck und Gestalten\, im Austausch mit anderen\, auch in der Begegnung mit der ursprüng­lichen Natur des Schwarzwaldes entfalten sich ungeahnte Kraftquellen und Ressourcen\, die auch den Alltag verwandeln können. Es sind keine besonderen Vorerfahrungen notwendig. \nDieses Jahr als Thema: Im Dazwischen-Seinbeschreibt einen Zustand der Schwebe\, ein Sein zwischen zwei Polen\, das weder hier noch dort\, weder ganz noch gar nicht ist. Menschen mit spiritueller Ausrichtung schätzen diesen Zustand des Nicht-Wissens als Raum der Leere & der Möglichkeiten. \nWas wir gerade im globalen und lokalen Weltgeschehen erfahren\, lässt viele von uns auch ungewollt in diesen Zustand der Schwebe purzeln. Oft ist dieser Zustand dann mit unangenehmen Gefühlen von Desorientierung\, Sicherheits-Verlust und Instabilität verbunden. Sich aber von allen Nachrichten und Ereignissen abzuschotten\, fühlt sich in unserer Entwicklung zum durchlässigen und mitfühlenden Menschen auch nicht stimmig an. \nWie können wir inmitten aller Informationen\, die über uns tagtäglich einströmen\, ein Gefühl von Verwurzelung\, Zusammenhalt und Freiheit erfahren\, uns Im Dazwischen – Sein beheimaten? \nFür uns bedeuten Tanz/Bewegung/ Malen\, die Arbeit mit inneren Bildern und Vorstellungen\, vor allem auch das SEIN mit und in der Natur\, dass wir uns verbinden mit Kräften und Wissen\, die mehr sind als wir selbst\, die uns neue Einsichten schenken.Wir glauben\, dass es in dieser Zeit umso wichtiger ist\, sich mit dem großen Ganzen zu verbinden\, um auch im Nicht-Wissen Vertrauen zu finden. \n\n\n\n\n\nSie können mitnehmen – einen bewussteren Umgang mit Ihrem Körper – Entspannung und Lebensfreude – Abstand zum Alltag und einen freien Kopf für neue Ideen – die Erfahrung\, sich selbst zu überraschen und beschenkt zu werden – Methoden\, wie sie Ihr Leben durch Kunst und Kreativität bereichern können – das Erlebnis\, von einer Gruppe unterstützt zu werden \n\n\n\nHier finden Sie Fotos : Fotogalerie Ferienwoche und zur inhaltlichen Arbeit weitere Fotos: Bildergalerie Workshops \n\n\n\n\n\nHauptausdrucksmedium ist Bewegung und Tanz. Durch Tanz und Körperarbeit wird das Ankommen im eigenen Körper erleichtert: weich und durchlässig werden\, in den Boden schmelzen\, Bewegungslust entwickeln\, gemeinsamen Bewegungsfluss erleben\,  auch in der Begegnung mit der Natur\, die zart und stark\, verwurzelt oder wandelbar sein kann wie wir. \n\n\n\nTagesablauf Es gibt in der Regel 2 feste Unterrichtseinheiten von ca. 3 Stunden vor- und nachmittags mit einer langen Mittagspause\, sowie einen freien Nachmittag. Genauere  Kurs- und Pausenzeiten werden vor Ort mit der Gruppe abgesprochen. Es gibt immer die Möglichkeit\, in- und außerhalb der Gruppenarbeit eigenen Impulsen und Ideen zu folgen. \n\n\n\nDer Tag kann ausklingen in der Sauna\, am Lagerfeuer mit Musik und Gesang\, mit einem Massageaustausch\, Tanz\, einem besonderen Filmabend und einem rauschenden Abschlussfest. \nKursleitung Katrin Stelter und Zula N. Hoffmann: beide sind ausgebildet am Tamalpa Institute\, Kalifornien. Gemeinsam unterrichteten sie  seit 2014 die Kreativ-Seminarwoche und einige Paar- und Beziehungswochenenden. Katrin Stelter: Tamalpa Practitioner und Co-Leitung von Tamalpa Germany\, New Dance bei bewegungs-art\, Lehr-/Logopädin Zula N. Hoffmann: Tamalpa Practitioner\, zeitgenöss. Tanz (v.a. contact improvisation\, Butoh action theatre)\, Kindertanzpädagogin\, www.bewegungs-kunst.de\, Kindertanzpädagogin \n\n\n \nTeilnehmende: Es sind keine besonderen Vorerfahrungen nötig\, alle Menschen sind willkommen\, mit dem\, was sie mitbringen an Ideen\, Gefühlen\, körperlichen Befindlichkeiten.Bei speziellen Fragen bitte einfach melden. \n\n\n\nFacebook-Link: https://fb.me/e/1OE0rq2DZcFlyer zum Download: Kreativ-Seminarwoche_2026-web \nAn- /Abreise: siehe  Seminarhaus LindenhofMitfahrgelegenheiten können organisiert werden\, bitte bei Anmeldung angeben\, ob ein Mitfahrangebot oder -gesuch besteht \nAnreise am 08.08.24  : ab 15 Uhr möglich\, Kursbeginn 17:00 UhrKursende am 13.08.26 mit dem Mittagessen um 13:00 Uhr Abreise ab 14:00 – bis spätestens 16:00 UhrSeminarort und Anreise hier \nKosten Übernachtung/ Vollpension pro Tag: ( eigene Bettwäsche mitbringen oder für 10€ buchen)siehe Seminarhaus Lindenhof\, \nAndresse: Seminarhaus LindenhofLindenhof 178532 Tuttlingen MöhringenTelefon: 07462/6259info@seminarhauslindenhof.deseminarhauslindenhof.deDamit Zimmerwünsche berücksichtigt werden können\, bitte frühzeitig buchenKurskosten nach Selbsteinschätzung: 570-480€\, Ermäßigung auf AnfrageAnmeldung: https://katrinstelter.de/anmeldung/workshopanmeldung/oder auch eine email an: kontakt@katrinstelter.de\,Tel: +49 761 7074501\,  mobil: +49 163 7074501 \nFacebook-Link zur Veranstaltung hier – gerne teilen \nzur Inspiration “Lebe” -Gedicht von Joseph Beuys \n 
URL:https://katrinstelter.de/event/kreativ-seminarwoche-august-2026/
END:VEVENT
BEGIN:VEVENT
DTSTART;TZID=Europe/Berlin:20261128T103000
DTEND;TZID=Europe/Berlin:20261129T160000
DTSTAMP:20260419T155404
CREATED:20221031T115229Z
LAST-MODIFIED:20251201T183310Z
UID:2912-1795861800-1795968000@katrinstelter.de
SUMMARY:TLAP-Seminar: aus dem Chaos schöpfen
DESCRIPTION:Tamalpa Life/Art Process® -Wochenendseminar\nAus dem Chaos schöpfen\n28.-29. November 2026 mit Katrin Stelter\nCH-Thalwil bei Zürich \nWie bewege ich mich im Chaos?\nWie finde ich Mut\, Richtung und Inspiration?\nWieviel Chaos brauche ich\, um Verwandlung zu zulassen?\nDem Chaos lauschen in Stille\nAnkommen – Zentriert sein \nIn diesem Tamalpa-Seminar steht auf physischer Ebene das Körperzentrum im Fokus im Dialog mit den Extremitäten. Als Bewegungsmetapher werden wir die Spirale nutzen und auf physischer Ebende explorieren\, u.a. mit Bewegungen aus dem Bewegungsritual. Es wird ein Dialog von Außen und Innen- ein Tanz in Aktivität und Stille entstehen.\nAusserdem wird der Fünfschritte Process im Tamalpa Life/Art Process® uns Orientierung geben für die Exploration und auch für das Mitnehmen von Ressourcen in den Alltag.\n5 Schritte:\n1) Identifiktion 2) Konfrontation 3) Loslassen 4) Veränderung 5) Wachstum ( Übertragung der Erkenntnisse in den Alltag) \nDer Tamalpa Life/Art Process® nach Anna und Daria Halprin ist eine Embodiment Methode. Es geht darum\, im Körper anzukommen\, die eigene Lebendigkeit zu erleben und zu entfalten.\nIm Tamalpa Life/Art Process® werden in fließenden Übergängen Bewegung/Tanz (als Hauptausdrucksmittel)\, Malen und kreatives Schreiben kombiniert.  Auf diese Weise werden angeborenes Wissen des Körpers und persönliche Glaubensmuster erforscht und im Sinne persönlichen Wachstums transformiert. \nNeue Ressourcen\, die sich im kreativen Prozess und aus dem Körpererleben entwickeln\, lassen sich effektiver in den Alltag übertragen. \nDie integrierende Methodik ist in der Expressive Arts Therapy international anerkannt.\nIn einem Vortrag mit Präsentation und Filmausschnitten zum Selbstportrait-Prozess wird die Methodik erläutert und damit auch die Inhalte der einjährigen Tamalpa Basisausbildung beschrieben. Diese wird seit 2011 in Deutschland von Tamalpa Germany in Kooperation mit dem Tamalpa Institute (USA) angeboten. \nJede Person ist herzlich willkommen: diejenigen\, die die Methode kennenlernen möchten und diejenigen\, die einfach mal wieder eintauchen möchten in diesen Prozess. Das Wochenende kann als Einführungswochenende für die Tamalpa Basisausbildung genutzt werden. www.tamalpa-germany.de\nHöchstteilnehmer*innenzahl: 18\nFlyer2025/2026 zum Download hier\nFacebook-link: \nKurszeiten:\nSamstag 10.30 bis 17:15\, danach 17:30 bis 18:30 Uhr: Vortrag\, Präsentation\, Filmausschnitte\, zum Vortrag können auch Gäste gerne kommen (10-15 CHF)\, Infos hier\nSonntag 10:00 bis 16:00 Uhr\nKurskosten: 360\,- CHF\, Gönnerinnenpreis: 390\,- CHF\, Ermäßigung auf Anfrage\nSonderangebot für junge Menschen\, zwei für den Preis von einer Person\, bitte nachfragen\nKursort: ZEB ( Zentrum Bewegung) Bahnhofstr. 24\n8800 Thalwil ( 15min incl S-Bahnfahrt ab Zürich Hbf und kurzer Fußweg) \nKursleitung: Tamalpa Germany Ausbildung (www.tamalpa-germany.de) Bewegungs- und Ausdruckstherapeutin\, Logopädin \nAssistenz/ Organisation: Barbara Engel (Tamalpa Teacher Training Graduate)\,\nbei kurzfristigen Fragen vor dem Kurs ( 2 Tage vorher) bitte sie anrufen:\n+41 0797486118 \nAnmeldung: https://katrinstelter.de/anmeldung/workshopanmeldung/\noder auch eine email an: kontakt@katrinstelter.de\,\nTel: +49 761 7074501\,  mobil: +49 163 7074501 \nEinzelbegleitung\, ist unabhängig buchbar und kann auch eine wunderbare Einstimmung auf den Kurs sein (online per Zoom nach Absprache flexibel sehr möglich)\,\nInfo hier  \nKosten: 100\,- CHF für 60 min\, empfehlenswert sind 90 min für 125- CHF\,\n(Preise gelten für Online Sitzungen\, Raummiete wird entsprechend addiert) \nInfos und Inspirationen über den Newsletter erhalten:\nhier klicken und anmelden
URL:https://katrinstelter.de/event/tlap-wochenende-thalwil2026/
END:VEVENT
BEGIN:VEVENT
DTSTART;TZID=UTC:20261128T173000
DTEND;TZID=UTC:20261128T183000
DTSTAMP:20260419T155404
CREATED:20151007T063208Z
LAST-MODIFIED:20251125T111641Z
UID:1206-1795887000-1795890600@katrinstelter.de
SUMMARY:Vortrag zum Tamalpa Life/Art Process in Thalwil
DESCRIPTION:Der Vortrag erläutert anhand einer Powerpoint Präsentation den theoretischen Hintergrund und die Philosophie der von Anna und Daria Halprin entwickelten Methode Tamalpa Life Art Process®. In diesem Zusammenhang wird das Konzept der Tamalpa Basisausbildung\, die seit 2011 auch berufsbegleitend in Deutschland angeboten wird\, vorgestellt mit vielen Fotos aus der praktischen Arbeit. \nAusserdem werden Auszüge aus der neuesten Dokumentation „Selbstportrait Performances“ gezeigt.  Der Film zeigt Erfahrungsberichte und die künstlerische Verarbeitung persönlicher Lebensthemen in einer rituellen Performance.\nLiteratur und DVDs zum Verkauf werden ausliegen. \nVortragende: Katrin Stelter Co-Leitung Tamalpa Germany Ausbildung Bewegungs- und Ausdruckstherapeutin\, Logopädin \nVeranstaltungsort: ZEB (Zentrum Bewegung) Thalwil\n15min S-Bahnfahrt ab Zürich Hbf.\nVortrag Sa: 17.30 – 18.30 Uhr \, 10CHF-15 CHF (oder bereits als Teil der Kursgebühr bezahlt) \nEs besteht noch die Möglichkeit\, das Tamalpa Life/Art Process®-Wochenendes zu buchen\, Thema „Herz und Verstand im Lebenstanz“\, der Vortrag ist in der Kursgebühr enthalten\, Infos hier \nVortrag-Facebooklink: https://fb.me/e/61H3wINhk \nVeranstalterin/Assistenz: Barbara Engel (Tamalpa Teacher Training Graduate)\,\nbei kurzfristigen Fragen (2 Tage vorher) bitte sie anrufen: Tel: +41 0797486118 \nInhaltliche Fragen beantwortet\nKatrin Stelter: Tel. +49 (0) 761-707 45 01\nkontakt@katrinstelter.de\, www.katrinstelter.de \nInfos und Inspirationen über den Newsletter erhalten:\nhier klicken und anmelden
URL:https://katrinstelter.de/event/vortrag-zum-tamalpa-lifeart-process-und-der-methode-6/
LOCATION:ZEB ( Zentrum für Bewegung)\, Bahnhofstr. 24\, 8800 Thalwil\, Schweiz
ORGANIZER;CN="Claudia Geller":MAILTO:geller.claudia@gmail.com
END:VEVENT
END:VCALENDAR